BEGIN:VCALENDAR
VERSION:2.0
PRODID:-//Dinnertainment Private Chef Services - ECPv6.15.20//NONSGML v1.0//EN
CALSCALE:GREGORIAN
METHOD:PUBLISH
X-WR-CALNAME:Dinnertainment Private Chef Services
X-ORIGINAL-URL:https://dinnertainmentislamujeres.com
X-WR-CALDESC:Events for Dinnertainment Private Chef Services
REFRESH-INTERVAL;VALUE=DURATION:PT1H
X-Robots-Tag:noindex
X-PUBLISHED-TTL:PT1H
BEGIN:VTIMEZONE
TZID:UTC
BEGIN:STANDARD
TZOFFSETFROM:+0000
TZOFFSETTO:+0000
TZNAME:UTC
DTSTART:20140101T000000
END:STANDARD
END:VTIMEZONE
BEGIN:VEVENT
DTSTART;TZID=UTC:20151222T180000
DTEND;TZID=UTC:20151222T200000
DTSTAMP:20260420T064543
CREATED:20151223T225600Z
LAST-MODIFIED:20151223T225600Z
UID:636-1450807200-1450814400@dinnertainmentislamujeres.com
SUMMARY:Private Dinner
DESCRIPTION:
URL:https://dinnertainmentislamujeres.com/event/private-dinner-2/
END:VEVENT
END:VCALENDAR