BEGIN:VCALENDAR
VERSION:2.0
PRODID:-//Dinnertainment Private Chef Services - ECPv6.15.20//NONSGML v1.0//EN
CALSCALE:GREGORIAN
METHOD:PUBLISH
X-WR-CALNAME:Dinnertainment Private Chef Services
X-ORIGINAL-URL:https://dinnertainmentislamujeres.com
X-WR-CALDESC:Events for Dinnertainment Private Chef Services
REFRESH-INTERVAL;VALUE=DURATION:PT1H
X-Robots-Tag:noindex
X-PUBLISHED-TTL:PT1H
BEGIN:VTIMEZONE
TZID:UTC
BEGIN:STANDARD
TZOFFSETFROM:+0000
TZOFFSETTO:+0000
TZNAME:UTC
DTSTART:20240101T000000
END:STANDARD
END:VTIMEZONE
BEGIN:VEVENT
DTSTART;TZID=UTC:20250506T170000
DTEND;TZID=UTC:20250506T180000
DTSTAMP:20260420T013408
CREATED:20250430T171534Z
LAST-MODIFIED:20250430T171814Z
UID:4505-1746550800-1746554400@dinnertainmentislamujeres.com
SUMMARY:Introduction to Tequila Class with Javi!
DESCRIPTION:🥃 INTRODUCTION TO TEQUILA 🍹\nAT JAVI’S CANTINA \n\n\n\nEmbark on a captivating journey through the rich history\, unique production processes\, and diverse flavors of tequila. Our expertly crafted classes offer an unforgettable experience for both beginners and enthusiasts alike. \n\n\n\n\n\n\nWhy not impress your friends when you return from your Mexican vacation as an expert in tequila? \n\n\n\nJoin us for a fun & flavorful one-hour class that dives into the world of tequila! For just $50 per person\, you’ll explore: \n✅ A quick look at tequila’s history & how it’s made\n✅ How to taste tequila like a pro—flavors\, aromas\, and more\n✅ Behind-the-scenes of tequila production\n✅ Mixing classic cocktails like margaritas & palomas\n✅ Food pairings that elevate your sipping experience\n✅ Highlights of top tequila brands and their unique flavors \n🎉 Includes tequila tasting & expert tips to develop your palate! \n📍 Location: Javi’s Cantina\n💵 Cost: $50 per person\n⏱️ Duration: 1 hour \nCome sip\, learn\, and enjoy! \nTo join: https://buy.stripe.com/bIY6qgbW4g0Becg28r
URL:https://dinnertainmentislamujeres.com/event/introduction-to-tequila-class-with-javi/
LOCATION:Javi’s Cantina
END:VEVENT
END:VCALENDAR